BEGIN:VCALENDAR
VERSION:2.0
PRODID:-//Sri Nityananda Ashram - ECPv4.6.10.1//NONSGML v1.0//EN
CALSCALE:GREGORIAN
METHOD:PUBLISH
X-WR-CALNAME:Sri Nityananda Ashram
X-ORIGINAL-URL:https://www.satsanglive.com.au
X-WR-CALDESC:Events for Sri Nityananda Ashram
BEGIN:VEVENT
DTSTART;TZID=Australia/Melbourne:20180203T190000
DTEND;TZID=Australia/Melbourne:20180203T213000
DTSTAMP:20180226T081909
CREATED:20160820T001952Z
LAST-MODIFIED:20160822T085918Z
UID:1671-1517684400-1517693400@www.satsanglive.com.au
SUMMARY:Weekly Satsang
DESCRIPTION:Watch Satsang every week from 7pm on Saturdays. \nThe weekly signup is $10. The more commonly purchased membership is the monthly membership. \nSatsang is available to watch on your computer\, tablet or phone. The stream will work on Android and Apple operating systems. \nThe monthly membership includes several Satsang talks by Swami Shankarananda. They’re available to download or stream. You can stream from your computer\, phone or tablet. \nFor questions and tech support Email Support \nPlease note once you register for watching Satsang your account will need approval. Please be patient with this process. \nRegister for Monthly Membership $30 includes Swamiji’s Satsang Talks Recurring \nRegister for Weekly Membership $10 Non-Recurring \n
URL:https://www.satsanglive.com.au/event/weekly-satsang/2018-02-03/
LOCATION:Online Viewing\, Broadcasted from Mount Eliza\, Australia
CATEGORIES:Ashram,Satsang
ATTACH;FMTTYPE=image/jpeg:https://www.satsanglive.com.au/wp-content/uploads/2016/08/cropped-bhagwan-slider-copy-1.jpg
END:VEVENT
BEGIN:VEVENT
DTSTART;TZID=Australia/Melbourne:20180210T190000
DTEND;TZID=Australia/Melbourne:20180210T213000
DTSTAMP:20180226T081909
CREATED:20160820T001952Z
LAST-MODIFIED:20160822T085918Z
UID:1673-1518289200-1518298200@www.satsanglive.com.au
SUMMARY:Weekly Satsang
DESCRIPTION:Watch Satsang every week from 7pm on Saturdays. \nThe weekly signup is $10. The more commonly purchased membership is the monthly membership. \nSatsang is available to watch on your computer\, tablet or phone. The stream will work on Android and Apple operating systems. \nThe monthly membership includes several Satsang talks by Swami Shankarananda. They’re available to download or stream. You can stream from your computer\, phone or tablet. \nFor questions and tech support Email Support \nPlease note once you register for watching Satsang your account will need approval. Please be patient with this process. \nRegister for Monthly Membership $30 includes Swamiji’s Satsang Talks Recurring \nRegister for Weekly Membership $10 Non-Recurring \n
URL:https://www.satsanglive.com.au/event/weekly-satsang/2018-02-10/
LOCATION:Online Viewing\, Broadcasted from Mount Eliza\, Australia
CATEGORIES:Ashram,Satsang
ATTACH;FMTTYPE=image/jpeg:https://www.satsanglive.com.au/wp-content/uploads/2016/08/cropped-bhagwan-slider-copy-1.jpg
END:VEVENT
BEGIN:VEVENT
DTSTART;TZID=Australia/Melbourne:20180217T190000
DTEND;TZID=Australia/Melbourne:20180217T213000
DTSTAMP:20180226T081909
CREATED:20160820T001952Z
LAST-MODIFIED:20160822T085918Z
UID:1674-1518894000-1518903000@www.satsanglive.com.au
SUMMARY:Weekly Satsang
DESCRIPTION:Watch Satsang every week from 7pm on Saturdays. \nThe weekly signup is $10. The more commonly purchased membership is the monthly membership. \nSatsang is available to watch on your computer\, tablet or phone. The stream will work on Android and Apple operating systems. \nThe monthly membership includes several Satsang talks by Swami Shankarananda. They’re available to download or stream. You can stream from your computer\, phone or tablet. \nFor questions and tech support Email Support \nPlease note once you register for watching Satsang your account will need approval. Please be patient with this process. \nRegister for Monthly Membership $30 includes Swamiji’s Satsang Talks Recurring \nRegister for Weekly Membership $10 Non-Recurring \n
URL:https://www.satsanglive.com.au/event/weekly-satsang/2018-02-17/
LOCATION:Online Viewing\, Broadcasted from Mount Eliza\, Australia
CATEGORIES:Ashram,Satsang
ATTACH;FMTTYPE=image/jpeg:https://www.satsanglive.com.au/wp-content/uploads/2016/08/cropped-bhagwan-slider-copy-1.jpg
END:VEVENT
BEGIN:VEVENT
DTSTART;TZID=Australia/Melbourne:20180224T190000
DTEND;TZID=Australia/Melbourne:20180224T213000
DTSTAMP:20180226T081909
CREATED:20160820T001952Z
LAST-MODIFIED:20160822T085919Z
UID:1675-1519498800-1519507800@www.satsanglive.com.au
SUMMARY:Weekly Satsang
DESCRIPTION:Watch Satsang every week from 7pm on Saturdays. \nThe weekly signup is $10. The more commonly purchased membership is the monthly membership. \nSatsang is available to watch on your computer\, tablet or phone. The stream will work on Android and Apple operating systems. \nThe monthly membership includes several Satsang talks by Swami Shankarananda. They’re available to download or stream. You can stream from your computer\, phone or tablet. \nFor questions and tech support Email Support \nPlease note once you register for watching Satsang your account will need approval. Please be patient with this process. \nRegister for Monthly Membership $30 includes Swamiji’s Satsang Talks Recurring \nRegister for Weekly Membership $10 Non-Recurring \n
URL:https://www.satsanglive.com.au/event/weekly-satsang/2018-02-24/
LOCATION:Online Viewing\, Broadcasted from Mount Eliza\, Australia
CATEGORIES:Ashram,Satsang
ATTACH;FMTTYPE=image/jpeg:https://www.satsanglive.com.au/wp-content/uploads/2016/08/cropped-bhagwan-slider-copy-1.jpg
END:VEVENT
BEGIN:VEVENT
DTSTART;TZID=Australia/Melbourne:20180303T190000
DTEND;TZID=Australia/Melbourne:20180303T213000
DTSTAMP:20180226T081909
CREATED:20160820T001952Z
LAST-MODIFIED:20160822T085919Z
UID:1750-1520103600-1520112600@www.satsanglive.com.au
SUMMARY:Weekly Satsang
DESCRIPTION:Watch Satsang every week from 7pm on Saturdays. \nThe weekly signup is $10. The more commonly purchased membership is the monthly membership. \nSatsang is available to watch on your computer\, tablet or phone. The stream will work on Android and Apple operating systems. \nThe monthly membership includes several Satsang talks by Swami Shankarananda. They’re available to download or stream. You can stream from your computer\, phone or tablet. \nFor questions and tech support Email Support \nPlease note once you register for watching Satsang your account will need approval. Please be patient with this process. \nRegister for Monthly Membership $30 includes Swamiji’s Satsang Talks Recurring \nRegister for Weekly Membership $10 Non-Recurring \n
URL:https://www.satsanglive.com.au/event/weekly-satsang/2018-03-03/
LOCATION:Online Viewing\, Broadcasted from Mount Eliza\, Australia
CATEGORIES:Ashram,Satsang
ATTACH;FMTTYPE=image/jpeg:https://www.satsanglive.com.au/wp-content/uploads/2016/08/cropped-bhagwan-slider-copy-1.jpg
END:VEVENT
END:VCALENDAR